BEGIN:VCALENDAR
VERSION:2.0
PRODID:-//Contratero//ES
CALSCALE:GREGORIAN
METHOD:PUBLISH
BEGIN:VEVENT
UID:2073/2025 CTO2025/18@contratero.es
DTSTAMP:20260425T232931Z
DTSTART:20251219T235959
DTEND:20251220T005959
SUMMARY:Cierre: La ampliación de las funcionalidades del servicio 
DESCRIPTION:La ampliación de las funcionalidades del servicio de administración electrónica de esta entidad que en la actualidad se presta por GESTIONA\, de la mercantil ESPUBLICO SERVICIOS PARA LA ADMINISTRACIÓN ...\\n\\nOrganismo: Alcaldía del Ayuntamiento de Aldeamayor de San Martín\\n\\nVer en Contratero: https://contratero.es/contracts/2073/2025 CTO2025/18
URL:https://contratero.es/contracts/2073/2025 CTO2025/18
STATUS:CONFIRMED
BEGIN:VALARM
TRIGGER:-P1D
ACTION:DISPLAY
DESCRIPTION:Recordatorio: La ampliación de las funcional
END:VALARM
END:VEVENT
END:VCALENDAR